BEGIN:VCALENDAR
VERSION:2.0
PRODID:-//Verein zur Förderung des traditionellen Jazz - ECPv5.3.2.1//NONSGML v1.0//EN
CALSCALE:GREGORIAN
METHOD:PUBLISH
X-WR-CALNAME:Verein zur Förderung des traditionellen Jazz
X-ORIGINAL-URL:https://hotjazz-bremen.de
X-WR-CALDESC:Veranstaltungen für Verein zur Förderung des traditionellen Jazz
BEGIN:VTIMEZONE
TZID:Europe/Berlin
BEGIN:DAYLIGHT
TZOFFSETFROM:+0100
TZOFFSETTO:+0200
TZNAME:CEST
DTSTART:20220327T010000
END:DAYLIGHT
BEGIN:STANDARD
TZOFFSETFROM:+0200
TZOFFSETTO:+0100
TZNAME:CET
DTSTART:20221030T010000
END:STANDARD
END:VTIMEZONE
BEGIN:VEVENT
DTSTART;TZID=Europe/Berlin:20220712T200000
DTEND;TZID=Europe/Berlin:20220712T223000
DTSTAMP:20260420T132411
CREATED:20220703T150004Z
LAST-MODIFIED:20220703T161247Z
UID:1385-1657656000-1657665000@hotjazz-bremen.de
SUMMARY:07/2022 Ain't We Sweet Jazz & Blues Band - Allround aus Ostfriesland
DESCRIPTION:Die Ain`t We Sweet Jazz & Blues Band macht seit nunmehr 25 Jahren swingende Jazzmusik\, Rhythm and Blues sowie Latin und Jazzrock. Die Band\, die ursprünglich nur Oldtime spielen wollte\, hat sich im Laufe der Jahre zu einem stilistischen Alleskönner entwickelt\, was u. a. auf die Musiker unterschiedlicher Stilrichtungen zurückzuführen ist. So trafen junge Soul und Rockmusiker auf &#8222;alte&#8220; Jazzer \,überwanden das &#8220; Generationsproblem&#8220; auch mit Hilfe der einfühlsamen und wandlungsfähigen Sängerin Sheila Heyartz. Sie bildeten einen Klangkörper\, der es ermöglichte\, ein außergewöhnliches und vielseitiges Programm zu entwickeln. Maxime ist die Freude am Musizieren\, was in den Interpretationen und den emotionalen Soli stark zum Ausdruck kommt. \nDie Besetzung: Sheila Heyartz (voc)\, Eberhard Nolopp (ts) \, Uwe (Ewu) Diekmann (as cl)\, Gerd Menzel (tp)\, Dirk Matulla bzw. Andreas Scholz (git)\, Hartmut Hornburg (b)\, Ode Stromann (p)\, Bernd Mingers (dr).
URL:https://hotjazz-bremen.de/event/07-2022-aint-we-sweet-jazz-blues-band-allround-aus-ostfriesland/
LOCATION:Waldbühne im Bürgerpark\, Parkallee 268\, Bremen\, Bremen\, 28209\, Deutschland
CATEGORIES:Dienstags-Jazz,Waldbühne
END:VEVENT
END:VCALENDAR