BEGIN:VCALENDAR
VERSION:2.0
PRODID:-//Verein zur Förderung des traditionellen Jazz - ECPv5.3.2.1//NONSGML v1.0//EN
CALSCALE:GREGORIAN
METHOD:PUBLISH
X-WR-CALNAME:Verein zur Förderung des traditionellen Jazz
X-ORIGINAL-URL:https://hotjazz-bremen.de
X-WR-CALDESC:Veranstaltungen für Verein zur Förderung des traditionellen Jazz
BEGIN:VTIMEZONE
TZID:Europe/Berlin
BEGIN:DAYLIGHT
TZOFFSETFROM:+0100
TZOFFSETTO:+0200
TZNAME:CEST
DTSTART:20200329T010000
END:DAYLIGHT
BEGIN:STANDARD
TZOFFSETFROM:+0200
TZOFFSETTO:+0100
TZNAME:CET
DTSTART:20201025T010000
END:STANDARD
END:VTIMEZONE
BEGIN:VEVENT
DTSTART;TZID=Europe/Berlin:20200811T193000
DTEND;TZID=Europe/Berlin:20200811T223000
DTSTAMP:20260420T072752
CREATED:20200610T234006Z
LAST-MODIFIED:20200611T160328Z
UID:478-1597174200-1597185000@hotjazz-bremen.de
SUMMARY:08/2020 Second Life - entfällt
DESCRIPTION:Delfzyl / NL
URL:https://hotjazz-bremen.de/event/08-2020-second-life/
LOCATION:Waldbühne im Bürgerpark\, Parkallee 268\, Bremen\, Bremen\, 28209\, Deutschland
CATEGORIES:Dienstags-Jazz,Waldbühne
END:VEVENT
END:VCALENDAR