BEGIN:VCALENDAR
VERSION:2.0
PRODID:-//Verein zur Förderung des traditionellen Jazz - ECPv5.3.2.1//NONSGML v1.0//EN
CALSCALE:GREGORIAN
METHOD:PUBLISH
X-WR-CALNAME:Verein zur Förderung des traditionellen Jazz
X-ORIGINAL-URL:https://hotjazz-bremen.de
X-WR-CALDESC:Veranstaltungen für Verein zur Förderung des traditionellen Jazz
BEGIN:VTIMEZONE
TZID:Europe/Berlin
BEGIN:DAYLIGHT
TZOFFSETFROM:+0100
TZOFFSETTO:+0200
TZNAME:CEST
DTSTART:20210328T010000
END:DAYLIGHT
BEGIN:STANDARD
TZOFFSETFROM:+0200
TZOFFSETTO:+0100
TZNAME:CET
DTSTART:20211031T010000
END:STANDARD
END:VTIMEZONE
BEGIN:VEVENT
DTSTART;TZID=Europe/Berlin:20211214T200000
DTEND;TZID=Europe/Berlin:20211214T223000
DTSTAMP:20260420T072216
CREATED:20210915T170818Z
LAST-MODIFIED:20220131T192532Z
UID:1110-1639512000-1639521000@hotjazz-bremen.de
SUMMARY:Abgesagt - Swinging Feetwarmers - Topband aus Kiel zum Vereinsjubiläum
DESCRIPTION:&#8222;Vom Dixieland zum Swing“ lautet das musikalische Motto der siebenköpfigen Besetzung. Zuhörer werden sehr schnell feststellen\, dass man sich Eddie Condon und seine All-Stars Gruppen zum Vorbild genommen hat\, was weiß Gott keine schlechte Wahl ist. Eine Band\, die aus diesem Vorbild ihre große Spielfreude schöpft.&#8220; \nMehr Infos auf der Webseite der Band. \nSwinging Feetwarmers Jazzband
URL:https://hotjazz-bremen.de/event/12-2021-swinging-feetwarmers-topband-aus-kiel-zum-vereinsjubilaeum/
LOCATION:Waldbühne im Bürgerpark\, Parkallee 268\, Bremen\, Bremen\, 28209\, Deutschland
CATEGORIES:Dienstags-Jazz,Waldbühne
END:VEVENT
END:VCALENDAR