BEGIN:VCALENDAR
VERSION:2.0
PRODID:-//Verein zur Förderung des traditionellen Jazz - ECPv5.3.2.1//NONSGML v1.0//EN
CALSCALE:GREGORIAN
METHOD:PUBLISH
X-WR-CALNAME:Verein zur Förderung des traditionellen Jazz
X-ORIGINAL-URL:https://hotjazz-bremen.de
X-WR-CALDESC:Veranstaltungen für Verein zur Förderung des traditionellen Jazz
BEGIN:VTIMEZONE
TZID:Europe/Berlin
BEGIN:DAYLIGHT
TZOFFSETFROM:+0100
TZOFFSETTO:+0200
TZNAME:CEST
DTSTART:20220327T010000
END:DAYLIGHT
BEGIN:STANDARD
TZOFFSETFROM:+0200
TZOFFSETTO:+0100
TZNAME:CET
DTSTART:20221030T010000
END:STANDARD
END:VTIMEZONE
BEGIN:VEVENT
DTSTART;TZID=Europe/Berlin:20220208T200000
DTEND;TZID=Europe/Berlin:20220208T223000
DTSTAMP:20260422T110347
CREATED:20220131T192815Z
LAST-MODIFIED:20220131T194452Z
UID:1314-1644350400-1644359400@hotjazz-bremen.de
SUMMARY:Abgesagt - Old Southland
DESCRIPTION:
URL:https://hotjazz-bremen.de/event/abgesagt-old-southland/
LOCATION:Waldbühne im Bürgerpark\, Parkallee 268\, Bremen\, Bremen\, 28209\, Deutschland
CATEGORIES:Dienstags-Jazz,Waldbühne
END:VEVENT
END:VCALENDAR